Package: omicade4 Version: 1.47.0 Command: rm -rf omicade4.buildbin-libdir && mkdir omicade4.buildbin-libdir && E:\biocbuild\bbs-3.21-bioc\R\bin\R.exe CMD INSTALL --build --library=omicade4.buildbin-libdir omicade4_1.47.0.tar.gz StartedAt: 2025-02-06 08:37:37 -0500 (Thu, 06 Feb 2025) EndedAt: 2025-02-06 08:38:08 -0500 (Thu, 06 Feb 2025) EllapsedTime: 31.1 seconds RetCode: 0 Status: OK PackageFile: omicade4_1.47.0.zip PackageFileSize: 617.5 KiB