Package: omicade4 Version: 1.47.0 Command: chmod a+r omicade4 -R && E:\biocbuild\bbs-3.21-bioc\R\bin\R.exe CMD build --keep-empty-dirs --no-resave-data omicade4 StartedAt: 2025-02-05 20:29:59 -0500 (Wed, 05 Feb 2025) EndedAt: 2025-02-05 20:30:51 -0500 (Wed, 05 Feb 2025) EllapsedTime: 51.6 seconds RetCode: 0 Status: OK PackageFile: omicade4_1.47.0.tar.gz PackageFileSize: 545.5 KiB