Package: omicade4 Version: 1.47.0 Command: E:\biocbuild\bbs-3.21-bioc\R\bin\R.exe CMD check --no-multiarch --install=check:omicade4.install-out.txt --library=E:\biocbuild\bbs-3.21-bioc\R\library --no-vignettes --timings omicade4_1.47.0.tar.gz StartedAt: 2025-02-11 03:55:35 -0500 (Tue, 11 Feb 2025) EndedAt: 2025-02-11 03:58:35 -0500 (Tue, 11 Feb 2025) EllapsedTime: 179.4 seconds RetCode: 0 Status: OK CheckDir: omicade4.Rcheck Warnings: 0