Package: omicade4 Version: 1.47.0 Command: E:\biocbuild\bbs-3.21-bioc\R\bin\R.exe CMD INSTALL omicade4 StartedAt: 2025-02-10 16:00:00 -0500 (Mon, 10 Feb 2025) EndedAt: 2025-02-10 16:00:29 -0500 (Mon, 10 Feb 2025) EllapsedTime: 29.3 seconds RetCode: 0 Status: OK