Package: omicplotR Version: 1.27.0 Command: rm -rf omicplotR.buildbin-libdir && mkdir omicplotR.buildbin-libdir && /Users/biocbuild/BBS/utils/build-universal.sh omicplotR_1.27.0.tar.gz /Library/Frameworks/R.framework/Resources/bin/R omicplotR.buildbin-libdir StartedAt: 2025-02-12 22:29:12 -0500 (Wed, 12 Feb 2025) EndedAt: 2025-02-12 22:29:23 -0500 (Wed, 12 Feb 2025) EllapsedTime: 11.2 seconds RetCode: 0 Status: OK PackageFile: omicplotR_1.27.0.tgz PackageFileSize: 1.183 MiB