Package: omicplotR Version: 1.27.0 Command: /home/biocbuild/R/R/bin/R CMD build --keep-empty-dirs --no-resave-data omicplotR StartedAt: 2025-01-29 00:57:14 -0000 (Wed, 29 Jan 2025) EndedAt: 2025-01-29 00:58:00 -0000 (Wed, 29 Jan 2025) EllapsedTime: 46.1 seconds RetCode: 0 Status: OK PackageFile: omicplotR_1.27.0.tar.gz PackageFileSize: 1.704 MiB