Package: omicplotR Version: 1.27.0 Command: /home/biocbuild/R/R/bin/R CMD INSTALL omicplotR StartedAt: 2025-01-29 20:23:44 -0000 (Wed, 29 Jan 2025) EndedAt: 2025-01-29 20:24:15 -0000 (Wed, 29 Jan 2025) EllapsedTime: 31.6 seconds RetCode: 0 Status: OK