Package: omicplotR Version: 1.27.0 Command: rm -rf omicplotR.buildbin-libdir && mkdir omicplotR.buildbin-libdir && /Users/biocbuild/BBS/utils/build-universal.sh omicplotR_1.27.0.tar.gz /Library/Frameworks/R.framework/Resources/bin/R omicplotR.buildbin-libdir StartedAt: 2025-02-10 01:06:37 -0500 (Mon, 10 Feb 2025) EndedAt: 2025-02-10 01:07:13 -0500 (Mon, 10 Feb 2025) EllapsedTime: 35.7 seconds RetCode: 0 Status: OK PackageFile: omicplotR_1.27.0.tgz PackageFileSize: 1.182 MiB