Package: omicplotR Version: 1.27.0 Command: /Library/Frameworks/R.framework/Resources/bin/R CMD INSTALL omicplotR StartedAt: 2025-02-09 15:36:51 -0500 (Sun, 09 Feb 2025) EndedAt: 2025-02-09 15:37:23 -0500 (Sun, 09 Feb 2025) EllapsedTime: 32.2 seconds RetCode: 0 Status: OK