Package: omicplotR Version: 1.27.0 Command: /home/biocbuild/bbs-3.21-bioc/R/bin/R CMD check --install=check:omicplotR.install-out.txt --library=/home/biocbuild/bbs-3.21-bioc/R/site-library --timings omicplotR_1.27.0.tar.gz StartedAt: 2025-02-13 00:55:08 -0500 (Thu, 13 Feb 2025) EndedAt: 2025-02-13 00:56:52 -0500 (Thu, 13 Feb 2025) EllapsedTime: 104.2 seconds RetCode: 0 Status: OK CheckDir: omicplotR.Rcheck Warnings: 0