Package: omicplotR Version: 1.27.0 Command: rm -rf omicplotR.buildbin-libdir && mkdir omicplotR.buildbin-libdir && E:\biocbuild\bbs-3.21-bioc\R\bin\R.exe CMD INSTALL --build --library=omicplotR.buildbin-libdir omicplotR_1.27.0.tar.gz StartedAt: 2025-02-10 08:18:53 -0500 (Mon, 10 Feb 2025) EndedAt: 2025-02-10 08:19:26 -0500 (Mon, 10 Feb 2025) EllapsedTime: 33.2 seconds RetCode: 0 Status: OK PackageFile: omicplotR_1.27.0.zip PackageFileSize: 1.183 MiB