Package: omicplotR Version: 1.27.0 Command: E:\biocbuild\bbs-3.21-bioc\R\bin\R.exe CMD check --no-multiarch --install=check:omicplotR.install-out.txt --library=E:\biocbuild\bbs-3.21-bioc\R\library --no-vignettes --timings omicplotR_1.27.0.tar.gz StartedAt: 2025-02-10 03:43:27 -0500 (Mon, 10 Feb 2025) EndedAt: 2025-02-10 03:45:40 -0500 (Mon, 10 Feb 2025) EllapsedTime: 133.3 seconds RetCode: 0 Status: OK CheckDir: omicplotR.Rcheck Warnings: 0