Package: omicsPrint Version: 1.27.0 Command: /Library/Frameworks/R.framework/Resources/bin/R CMD check --install=check:omicsPrint.install-out.txt --library=/Library/Frameworks/R.framework/Resources/library --no-vignettes --timings omicsPrint_1.27.0.tar.gz StartedAt: 2025-02-09 20:29:22 -0500 (Sun, 09 Feb 2025) EndedAt: 2025-02-09 20:30:31 -0500 (Sun, 09 Feb 2025) EllapsedTime: 68.8 seconds RetCode: 0 Status: WARNINGS CheckDir: omicsPrint.Rcheck Warnings: 1