Package: omicsPrint Version: 1.27.0 Command: /Library/Frameworks/R.framework/Resources/bin/R CMD INSTALL omicsPrint StartedAt: 2025-02-09 15:05:14 -0500 (Sun, 09 Feb 2025) EndedAt: 2025-02-09 15:05:24 -0500 (Sun, 09 Feb 2025) EllapsedTime: 10.7 seconds RetCode: 0 Status: OK