Package: omicsPrint Version: 1.27.0 Command: /home/biocbuild/R/R/bin/R CMD check --install=check:omicsPrint.install-out.txt --library=/home/biocbuild/R/R/site-library --no-vignettes --timings omicsPrint_1.27.0.tar.gz StartedAt: 2025-01-27 10:44:04 -0000 (Mon, 27 Jan 2025) EndedAt: 2025-01-27 10:47:51 -0000 (Mon, 27 Jan 2025) EllapsedTime: 227.3 seconds RetCode: 0 Status: WARNINGS CheckDir: omicsPrint.Rcheck Warnings: 1