Package: omicsPrint Version: 1.27.0 Command: /home/biocbuild/R/R/bin/R CMD INSTALL omicsPrint StartedAt: 2025-01-29 19:41:41 -0000 (Wed, 29 Jan 2025) EndedAt: 2025-01-29 19:42:16 -0000 (Wed, 29 Jan 2025) EllapsedTime: 34.6 seconds RetCode: 0 Status: OK