Package: omicsPrint Version: 1.27.0 Command: /Library/Frameworks/R.framework/Resources/bin/R CMD build --keep-empty-dirs --no-resave-data omicsPrint StartedAt: 2025-02-12 17:41:40 -0500 (Wed, 12 Feb 2025) EndedAt: 2025-02-12 17:42:47 -0500 (Wed, 12 Feb 2025) EllapsedTime: 67.3 seconds RetCode: 0 Status: OK PackageFile: omicsPrint_1.27.0.tar.gz PackageFileSize: 4.338 MiB