Package: omicsPrint Version: 1.27.0 Command: /home/biocbuild/bbs-3.21-bioc/R/bin/R CMD check --install=check:omicsPrint.install-out.txt --library=/home/biocbuild/bbs-3.21-bioc/R/site-library --timings omicsPrint_1.27.0.tar.gz StartedAt: 2025-02-13 00:55:18 -0500 (Thu, 13 Feb 2025) EndedAt: 2025-02-13 00:58:50 -0500 (Thu, 13 Feb 2025) EllapsedTime: 212.3 seconds RetCode: 0 Status: WARNINGS CheckDir: omicsPrint.Rcheck Warnings: 1