Package: omicsPrint Version: 1.27.0 Command: chmod a+r omicsPrint -R && E:\biocbuild\bbs-3.21-bioc\R\bin\R.exe CMD build --keep-empty-dirs --no-resave-data omicsPrint StartedAt: 2025-02-12 20:30:40 -0500 (Wed, 12 Feb 2025) EndedAt: 2025-02-12 20:32:14 -0500 (Wed, 12 Feb 2025) EllapsedTime: 94.3 seconds RetCode: 0 Status: OK PackageFile: omicsPrint_1.27.0.tar.gz PackageFileSize: 4.102 MiB