Package: omicsPrint Version: 1.27.0 Command: E:\biocbuild\bbs-3.21-bioc\R\bin\R.exe CMD check --no-multiarch --install=check:omicsPrint.install-out.txt --library=E:\biocbuild\bbs-3.21-bioc\R\library --no-vignettes --timings omicsPrint_1.27.0.tar.gz StartedAt: 2025-02-10 03:44:00 -0500 (Mon, 10 Feb 2025) EndedAt: 2025-02-10 03:47:42 -0500 (Mon, 10 Feb 2025) EllapsedTime: 222.0 seconds RetCode: 0 Status: WARNINGS CheckDir: omicsPrint.Rcheck Warnings: 1