Package: omicsViewer Version: 1.11.1 Maintainer: Chen Meng MaintainerEmail: mengchen18 at gmail.com git_url: https://git.bioconductor.org/packages/omicsViewer git_branch: devel git_last_commit: 7951298 git_last_commit_date: 2025-01-29 14:21:50 -0500 (Wed, 29 Jan 2025)