Package: omicsViewer Version: 1.11.1 Command: /Library/Frameworks/R.framework/Resources/bin/R CMD build --keep-empty-dirs --no-resave-data omicsViewer StartedAt: 2025-02-05 17:10:20 -0500 (Wed, 05 Feb 2025) EndedAt: 2025-02-05 17:10:41 -0500 (Wed, 05 Feb 2025) EllapsedTime: 21.2 seconds RetCode: 0 Status: OK PackageFile: omicsViewer_1.11.1.tar.gz PackageFileSize: 4.325 MiB