Package: omicsViewer Version: 1.11.1 Command: /Library/Frameworks/R.framework/Resources/bin/R CMD check --install=check:omicsViewer.install-out.txt --library=/Library/Frameworks/R.framework/Resources/library --no-vignettes --timings omicsViewer_1.11.1.tar.gz StartedAt: 2025-02-05 20:35:44 -0500 (Wed, 05 Feb 2025) EndedAt: 2025-02-05 20:37:38 -0500 (Wed, 05 Feb 2025) EllapsedTime: 114.3 seconds RetCode: 0 Status: OK CheckDir: omicsViewer.Rcheck Warnings: 0