Package: omicsViewer Version: 1.11.0 Command: /home/biocbuild/R/R/bin/R CMD build --keep-empty-dirs --no-resave-data omicsViewer StartedAt: 2025-01-29 00:58:00 -0000 (Wed, 29 Jan 2025) EndedAt: 2025-01-29 01:00:18 -0000 (Wed, 29 Jan 2025) EllapsedTime: 138.2 seconds RetCode: 0 Status: OK PackageFile: omicsViewer_1.11.0.tar.gz PackageFileSize: 4.387 MiB