Package: omicsViewer Version: 1.11.0 Command: /home/biocbuild/R/R/bin/R CMD INSTALL omicsViewer StartedAt: 2025-01-29 20:35:30 -0000 (Wed, 29 Jan 2025) EndedAt: 2025-01-29 20:36:17 -0000 (Wed, 29 Jan 2025) EllapsedTime: 46.3 seconds RetCode: 0 Status: OK