Package: omicsViewer Version: 1.11.1 Command: rm -rf omicsViewer.buildbin-libdir && mkdir omicsViewer.buildbin-libdir && /Users/biocbuild/BBS/utils/build-universal.sh omicsViewer_1.11.1.tar.gz /Library/Frameworks/R.framework/Resources/bin/R omicsViewer.buildbin-libdir StartedAt: 2025-02-06 00:43:13 -0500 (Thu, 06 Feb 2025) EndedAt: 2025-02-06 00:44:00 -0500 (Thu, 06 Feb 2025) EllapsedTime: 47.2 seconds RetCode: 0 Status: OK PackageFile: omicsViewer_1.11.1.tgz PackageFileSize: 4.363 MiB