Package: omicsViewer Version: 1.11.1 Command: /Library/Frameworks/R.framework/Resources/bin/R CMD INSTALL omicsViewer StartedAt: 2025-02-05 15:43:09 -0500 (Wed, 05 Feb 2025) EndedAt: 2025-02-05 15:43:52 -0500 (Wed, 05 Feb 2025) EllapsedTime: 42.9 seconds RetCode: 0 Status: OK