Package: omicsViewer Version: 1.11.1 Command: /home/biocbuild/bbs-3.21-bioc/R/bin/R CMD build --keep-empty-dirs --no-resave-data omicsViewer StartedAt: 2025-02-05 18:29:04 -0500 (Wed, 05 Feb 2025) EndedAt: 2025-02-05 18:29:55 -0500 (Wed, 05 Feb 2025) EllapsedTime: 51.0 seconds RetCode: 0 Status: OK PackageFile: omicsViewer_1.11.1.tar.gz PackageFileSize: 4.325 MiB