Package: omicsViewer Version: 1.11.1 Command: rm -rf omicsViewer.buildbin-libdir && mkdir omicsViewer.buildbin-libdir && E:\biocbuild\bbs-3.21-bioc\R\bin\R.exe CMD INSTALL --build --library=omicsViewer.buildbin-libdir omicsViewer_1.11.1.tar.gz StartedAt: 2025-02-05 08:30:39 -0500 (Wed, 05 Feb 2025) EndedAt: 2025-02-05 08:32:23 -0500 (Wed, 05 Feb 2025) EllapsedTime: 103.2 seconds RetCode: 0 Status: OK PackageFile: omicsViewer_1.11.1.zip PackageFileSize: 4.362 MiB