Package: omicsViewer Version: 1.11.1 Command: chmod a+r omicsViewer -R && E:\biocbuild\bbs-3.21-bioc\R\bin\R.exe CMD build --keep-empty-dirs --no-resave-data omicsViewer StartedAt: 2025-02-04 20:26:58 -0500 (Tue, 04 Feb 2025) EndedAt: 2025-02-04 20:28:40 -0500 (Tue, 04 Feb 2025) EllapsedTime: 102.2 seconds RetCode: 0 Status: OK PackageFile: omicsViewer_1.11.1.tar.gz PackageFileSize: 4.326 MiB