Package: omicsViewer Version: 1.11.1 Command: E:\biocbuild\bbs-3.21-bioc\R\bin\R.exe CMD check --no-multiarch --install=check:omicsViewer.install-out.txt --library=E:\biocbuild\bbs-3.21-bioc\R\library --no-vignettes --timings omicsViewer_1.11.1.tar.gz StartedAt: 2025-02-06 04:14:08 -0500 (Thu, 06 Feb 2025) EndedAt: 2025-02-06 04:20:19 -0500 (Thu, 06 Feb 2025) EllapsedTime: 370.6 seconds RetCode: 0 Status: OK CheckDir: omicsViewer.Rcheck Warnings: 0