Package: omicsViewer Version: 1.11.1 Command: E:\biocbuild\bbs-3.21-bioc\R\bin\R.exe CMD INSTALL omicsViewer StartedAt: 2025-02-04 16:56:05 -0500 (Tue, 04 Feb 2025) EndedAt: 2025-02-04 16:57:10 -0500 (Tue, 04 Feb 2025) EllapsedTime: 64.8 seconds RetCode: 0 Status: OK