Package: ompBAM Version: 1.11.0 Command: /home/biocbuild/R/R/bin/R CMD INSTALL ompBAM StartedAt: 2025-01-29 20:31:19 -0000 (Wed, 29 Jan 2025) EndedAt: 2025-01-29 20:31:22 -0000 (Wed, 29 Jan 2025) EllapsedTime: 2.2 seconds RetCode: 0 Status: OK