Package: ompBAM Version: 1.11.0 Command: rm -rf ompBAM.buildbin-libdir && mkdir ompBAM.buildbin-libdir && /Users/biocbuild/BBS/utils/build-universal.sh ompBAM_1.11.0.tar.gz /Library/Frameworks/R.framework/Resources/bin/R ompBAM.buildbin-libdir StartedAt: 2025-02-10 01:06:44 -0500 (Mon, 10 Feb 2025) EndedAt: 2025-02-10 01:06:50 -0500 (Mon, 10 Feb 2025) EllapsedTime: 5.8 seconds RetCode: 0 Status: OK PackageFile: ompBAM_1.11.0.tgz PackageFileSize: 3.144 MiB