Package: ompBAM Version: 1.11.0 Command: /Library/Frameworks/R.framework/Resources/bin/R CMD build --keep-empty-dirs --no-resave-data ompBAM StartedAt: 2025-02-09 17:48:16 -0500 (Sun, 09 Feb 2025) EndedAt: 2025-02-09 17:48:43 -0500 (Sun, 09 Feb 2025) EllapsedTime: 27.4 seconds RetCode: 0 Status: OK PackageFile: ompBAM_1.11.0.tar.gz PackageFileSize: 3.142 MiB