Package: ompBAM Version: 1.11.0 Command: /Library/Frameworks/R.framework/Resources/bin/R CMD INSTALL ompBAM StartedAt: 2025-02-03 15:44:52 -0500 (Mon, 03 Feb 2025) EndedAt: 2025-02-03 15:44:55 -0500 (Mon, 03 Feb 2025) EllapsedTime: 3.1 seconds RetCode: 0 Status: OK