Package: ompBAM Version: 1.11.0 Command: /home/biocbuild/bbs-3.21-bioc/R/bin/R CMD check --install=check:ompBAM.install-out.txt --library=/home/biocbuild/bbs-3.21-bioc/R/site-library --timings ompBAM_1.11.0.tar.gz StartedAt: 2025-02-04 01:02:45 -0500 (Tue, 04 Feb 2025) EndedAt: 2025-02-04 01:03:31 -0500 (Tue, 04 Feb 2025) EllapsedTime: 46.1 seconds RetCode: 0 Status: OK CheckDir: ompBAM.Rcheck Warnings: 0