Package: ompBAM Version: 1.11.0 Command: chmod a+r ompBAM -R && E:\biocbuild\bbs-3.21-bioc\R\bin\R.exe CMD build --keep-empty-dirs --no-resave-data ompBAM StartedAt: 2025-02-09 20:25:10 -0500 (Sun, 09 Feb 2025) EndedAt: 2025-02-09 20:25:55 -0500 (Sun, 09 Feb 2025) EllapsedTime: 45.3 seconds RetCode: 0 Status: OK PackageFile: ompBAM_1.11.0.tar.gz PackageFileSize: 3.142 MiB