Package: ompBAM Version: 1.11.0 Command: E:\biocbuild\bbs-3.21-bioc\R\bin\R.exe CMD check --no-multiarch --install=check:ompBAM.install-out.txt --library=E:\biocbuild\bbs-3.21-bioc\R\library --no-vignettes --timings ompBAM_1.11.0.tar.gz StartedAt: 2025-02-10 03:44:43 -0500 (Mon, 10 Feb 2025) EndedAt: 2025-02-10 03:46:28 -0500 (Mon, 10 Feb 2025) EllapsedTime: 104.2 seconds RetCode: 0 Status: OK CheckDir: ompBAM.Rcheck Warnings: 0