Package: oncomix Version: 1.29.0 Command: /Library/Frameworks/R.framework/Resources/bin/R CMD check --install=check:oncomix.install-out.txt --library=/Library/Frameworks/R.framework/Resources/library --no-vignettes --timings oncomix_1.29.0.tar.gz StartedAt: 2025-02-09 20:30:01 -0500 (Sun, 09 Feb 2025) EndedAt: 2025-02-09 20:31:05 -0500 (Sun, 09 Feb 2025) EllapsedTime: 64.8 seconds RetCode: 0 Status: OK CheckDir: oncomix.Rcheck Warnings: 0