Package: oncomix Version: 1.29.0 Command: /home/biocbuild/R/R/bin/R CMD build --keep-empty-dirs --no-resave-data oncomix StartedAt: 2025-01-29 01:00:23 -0000 (Wed, 29 Jan 2025) EndedAt: 2025-01-29 01:01:39 -0000 (Wed, 29 Jan 2025) EllapsedTime: 76.1 seconds RetCode: 0 Status: OK PackageFile: oncomix_1.29.0.tar.gz PackageFileSize: 1.885 MiB