Package: oncomix Version: 1.29.0 Command: /Library/Frameworks/R.framework/Resources/bin/R CMD INSTALL oncomix StartedAt: 2025-02-09 15:10:09 -0500 (Sun, 09 Feb 2025) EndedAt: 2025-02-09 15:10:40 -0500 (Sun, 09 Feb 2025) EllapsedTime: 31.2 seconds RetCode: 0 Status: OK