Package: oncomix Version: 1.29.0 Command: chmod a+r oncomix -R && E:\biocbuild\bbs-3.21-bioc\R\bin\R.exe CMD build --keep-empty-dirs --no-resave-data oncomix StartedAt: 2025-02-09 20:25:32 -0500 (Sun, 09 Feb 2025) EndedAt: 2025-02-09 20:28:53 -0500 (Sun, 09 Feb 2025) EllapsedTime: 201.2 seconds RetCode: 0 Status: OK PackageFile: oncomix_1.29.0.tar.gz PackageFileSize: 1.688 MiB