Package: oncomix Version: 1.29.0 Command: E:\biocbuild\bbs-3.21-bioc\R\bin\R.exe CMD INSTALL oncomix StartedAt: 2025-02-09 16:06:47 -0500 (Sun, 09 Feb 2025) EndedAt: 2025-02-09 16:07:11 -0500 (Sun, 09 Feb 2025) EllapsedTime: 24.3 seconds RetCode: 0 Status: OK