Package: oncoscanR Version: 1.9.0 Command: rm -rf oncoscanR.buildbin-libdir && mkdir oncoscanR.buildbin-libdir && /Users/biocbuild/BBS/utils/build-universal.sh oncoscanR_1.9.0.tar.gz /Library/Frameworks/R.framework/Resources/bin/R oncoscanR.buildbin-libdir StartedAt: 2025-02-09 22:24:14 -0500 (Sun, 09 Feb 2025) EndedAt: 2025-02-09 22:24:20 -0500 (Sun, 09 Feb 2025) EllapsedTime: 6.1 seconds RetCode: 0 Status: OK PackageFile: oncoscanR_1.9.0.tgz PackageFileSize: 1.047 MiB