Package: oncoscanR Version: 1.9.0 Command: /Library/Frameworks/R.framework/Resources/bin/R CMD build --keep-empty-dirs --no-resave-data oncoscanR StartedAt: 2025-02-09 17:09:44 -0500 (Sun, 09 Feb 2025) EndedAt: 2025-02-09 17:10:29 -0500 (Sun, 09 Feb 2025) EllapsedTime: 44.5 seconds RetCode: 0 Status: OK PackageFile: oncoscanR_1.9.0.tar.gz PackageFileSize: 990.8 KiB