Package: oncoscanR Version: 1.9.0 Command: /Library/Frameworks/R.framework/Resources/bin/R CMD check --install=check:oncoscanR.install-out.txt --library=/Library/Frameworks/R.framework/Resources/library --no-vignettes --timings oncoscanR_1.9.0.tar.gz StartedAt: 2025-02-09 20:30:02 -0500 (Sun, 09 Feb 2025) EndedAt: 2025-02-09 20:31:50 -0500 (Sun, 09 Feb 2025) EllapsedTime: 108.3 seconds RetCode: 0 Status: OK CheckDir: oncoscanR.Rcheck Warnings: 0