Package: oncoscanR Version: 1.9.0 Command: /home/biocbuild/R/R/bin/R CMD check --install=check:oncoscanR.install-out.txt --library=/home/biocbuild/R/R/site-library --no-vignettes --timings oncoscanR_1.9.0.tar.gz StartedAt: 2025-01-28 13:30:03 -0000 (Tue, 28 Jan 2025) EndedAt: 2025-01-28 13:40:27 -0000 (Tue, 28 Jan 2025) EllapsedTime: 624.6 seconds RetCode: 0 Status: OK CheckDir: oncoscanR.Rcheck Warnings: 0