Package: oncoscanR Version: 1.9.0 Command: /Library/Frameworks/R.framework/Resources/bin/R CMD build --keep-empty-dirs --no-resave-data oncoscanR StartedAt: 2025-02-12 17:42:03 -0500 (Wed, 12 Feb 2025) EndedAt: 2025-02-12 17:44:53 -0500 (Wed, 12 Feb 2025) EllapsedTime: 170.5 seconds RetCode: 0 Status: OK PackageFile: oncoscanR_1.9.0.tar.gz PackageFileSize: 990.7 KiB