Package: oncoscanR Version: 1.9.0 Command: rm -rf oncoscanR.buildbin-libdir && mkdir oncoscanR.buildbin-libdir && E:\biocbuild\bbs-3.21-bioc\R\bin\R.exe CMD INSTALL --build --library=oncoscanR.buildbin-libdir oncoscanR_1.9.0.tar.gz StartedAt: 2025-02-13 08:29:32 -0500 (Thu, 13 Feb 2025) EndedAt: 2025-02-13 08:30:01 -0500 (Thu, 13 Feb 2025) EllapsedTime: 28.7 seconds RetCode: 0 Status: OK PackageFile: oncoscanR_1.9.0.zip PackageFileSize: 1.045 MiB